BEGIN:VCALENDAR
VERSION:2.0
PRODID:-//eventon.com NONSGML v1.0//EN
CALSCALE:GREGORIAN
METHOD:PUBLISH
BEGIN:VEVENT
UID:69e4ea24ae940
DTSTAMP:20260419T154348
DTSTART:20220321
DTEND:20220324
TZID:UTC
LOCATION:
SUMMARY:Working in High Risk Confined Space (6160-03)
DESCRIPTION:Working in High Risk Confined Space (6160-03)\nhttps://bhbsafety.co.uk/events/working-in-high-risk-confined-space-6160-03/
URL:https://bhbsafety.co.uk/events/working-in-high-risk-confined-space-6160-03/
END:VEVENT
END:VCALENDAR